BEGIN:VCALENDAR
VERSION:2.0
PRODID:-//Blossom by Being - ECPv6.15.20//NONSGML v1.0//EN
CALSCALE:GREGORIAN
METHOD:PUBLISH
X-WR-CALNAME:Blossom by Being
X-ORIGINAL-URL:https://blossombybeing.com
X-WR-CALDESC:Events for Blossom by Being
REFRESH-INTERVAL;VALUE=DURATION:PT1H
X-Robots-Tag:noindex
X-PUBLISHED-TTL:PT1H
BEGIN:VTIMEZONE
TZID:America/New_York
BEGIN:DAYLIGHT
TZOFFSETFROM:-0500
TZOFFSETTO:-0400
TZNAME:EDT
DTSTART:20250309T070000
END:DAYLIGHT
BEGIN:STANDARD
TZOFFSETFROM:-0400
TZOFFSETTO:-0500
TZNAME:EST
DTSTART:20251102T060000
END:STANDARD
BEGIN:DAYLIGHT
TZOFFSETFROM:-0500
TZOFFSETTO:-0400
TZNAME:EDT
DTSTART:20260308T070000
END:DAYLIGHT
BEGIN:STANDARD
TZOFFSETFROM:-0400
TZOFFSETTO:-0500
TZNAME:EST
DTSTART:20261101T060000
END:STANDARD
BEGIN:DAYLIGHT
TZOFFSETFROM:-0500
TZOFFSETTO:-0400
TZNAME:EDT
DTSTART:20270314T070000
END:DAYLIGHT
BEGIN:STANDARD
TZOFFSETFROM:-0400
TZOFFSETTO:-0500
TZNAME:EST
DTSTART:20271107T060000
END:STANDARD
END:VTIMEZONE
BEGIN:VEVENT
DTSTART;TZID=America/New_York:20260204T080000
DTEND;TZID=America/New_York:20260425T000000
DTSTAMP:20260423T161627
CREATED:20260205T000339Z
LAST-MODIFIED:20260206T194010Z
UID:18639-1770192000-1777075200@blossombybeing.com
SUMMARY:WOMB TO HARVEST!
DESCRIPTION:WOMB TO HARVEST!\n\n\nA Generational Leadership Encounter\n\n\nThere are seasons when God is not rushing the harvest He is returning us to the womb.\n\n\nWomb to Harvest is a sacred leadership gathering for those who understand that fruitfulness begins with formation.\nBefore platforms. Before visibility. Before release.\n\n\nJoin Pastor Veronica and Apostle Joanna Birchett as we journey from conception to commission\, addressing identity\, healing\, alignment\, and the responsibility of carrying what God has entrusted to us.\n\n\nThis encounter is for leaders\, emerging leaders\, and vision-carriers who desire to lead from wholeness\, not haste.\n\n\nCome be nurtured\nCome be aligned\nCome be prepared for the harvest\n\n\nApril 25th\n12:00 PM\nElevated Life in Christ Community Church\n500 Kelker Street\, Harrisburg\, PA\n\n\n\nCost: $10 per person\n\n\n\n\n\nPlease include “Womb to Harvest” in the payment note.\n\n\n\nHosted by Blossom by Being
URL:https://blossombybeing.com/event/womb-to-harvest/
END:VEVENT
END:VCALENDAR